BEGIN:VCALENDAR
PRODID:-//eluceo/ical//2.0/EN
VERSION:2.0
CALSCALE:GREGORIAN
BEGIN:VEVENT
UID:473a7b344fd86dd00ee35354d2d979c9
DTSTAMP:20260421T223836Z
SUMMARY:Raoul Wallenberg Day Film Screening
DESCRIPTION:UJA Federation of Greater Toronto\nJewish Toronto Calendar\nhtt
 ps://jewishtoronto.com/calendar/raoul-wallenberg-day-film-screening-151492
 9255\n\nDefying the Nazis: The Sharps’ War (2016) directed by Ken Burns 
 (Documentary\, 1 hour 18 minutes).\nCineplex Cinemas Empress Walk\, 5095 Y
 onge Street\, Toronto\, ON\nTickets are $15.00\nJanuary 17\, 2018\n7:00pm 
 \nhttps://www.eventbrite.ca/e/defying-the-nazis-the-sharps-war-wallenberg-
 day-screening-tickets-41461155432
DTSTART;TZID=America/Toronto:20180117T190000
DTEND;TZID=America/Toronto:20180117T210000
END:VEVENT
END:VCALENDAR
