BEGIN:VCALENDAR
PRODID:-//eluceo/ical//2.0/EN
VERSION:2.0
CALSCALE:GREGORIAN
BEGIN:VEVENT
UID:55a578090df6e718a830b5e584b0318c
DTSTAMP:20260420T085420Z
SUMMARY:Rabbinic Conversation: “How must we respond to the New Anti-Semit
 ism?”
DESCRIPTION:UJA Federation of Greater Toronto\nJewish Toronto Calendar\nhtt
 ps://jewishtoronto.com/calendar/rabbinic-conversation-how-must-we-respond-
 to-the-new-anti-semitism-1511812211\n\nRabbis Baruch Frydman-Kohl\, Yael S
 plansky and Chaim Strauchler will conduct a public conversation on how we 
 as a community should respond to modern manifestations of anti-Semitism. T
 his is the second public conversation in a series. Everyone is welcome.
DTSTART;TZID=America/Toronto:20180306T200000
DTEND;TZID=America/Toronto:20180306T220000
END:VEVENT
END:VCALENDAR
