BEGIN:VCALENDAR
PRODID:-//eluceo/ical//2.0/EN
VERSION:2.0
CALSCALE:GREGORIAN
BEGIN:VEVENT
UID:3753ea285ba29158fccf8410168952f7
DTSTAMP:20260425T122246Z
SUMMARY:rabbi-doniel-katz-the-chocolate-cake-experience
DESCRIPTION:UJA Federation of Greater Toronto\nJewish Toronto Calendar\nhtt
 ps://jewishtoronto.com/calendar/rabbi-doniel-katz-the-chocolate-cake-exper
 ience\n\nA chance to hear internationally-renowned Israeli Rabbi Doniel Ka
 tz\, who travels around the world speaking about how to use psychology and
  Jewish thought to maximize your happiness and potential. Savour his class
  "THe Chocolate Cake Experience\," a high-intensity discussion about desir
 e\, truth\, and our perception of reality. Not to be missed! Kabbalat Shab
 bat service: 7:00\; Dinner: 8:00\n\nFees: $ 23.00 - Early bird\, before M
 arch 23 @ 8 pm $ 28.00 - March 26 before 11:59 pm
DTSTART;TZID=America/Toronto:20140328T190000
DTEND;TZID=America/Toronto:20140328T220000
END:VEVENT
END:VCALENDAR
