BEGIN:VCALENDAR
PRODID:-//eluceo/ical//2.0/EN
VERSION:2.0
CALSCALE:GREGORIAN
BEGIN:VEVENT
UID:f4c46dcc8a2b6642aff45f19887d75da
DTSTAMP:20260419T161248Z
SUMMARY:Puttin’ on the Ritz Concert & Dance in Celebration of Chanukah
DESCRIPTION:UJA Federation of Greater Toronto\nJewish Toronto Calendar\nhtt
 ps://jewishtoronto.com/calendar/puttin-on-the-ritz-concert--dance-in-celeb
 ration-of-chanukah-1479506028\n\nFeaturing The Wintergarten Orchestra\, wi
 th guest vocalists Ted Atherton and Tanya Wills.\nSavour the sounds of 192
 0s and &lsquo\;30s jazz and cabaret classics and dance away the afternoon 
 in the Al Green Theatre.\n\nTo register\, please call (416) 924-6211 x0.\n
DTSTART;TZID=America/Toronto:20161215T123000
DTEND;TZID=America/Toronto:20161215T143000
END:VEVENT
END:VCALENDAR
