BEGIN:VCALENDAR
PRODID:-//eluceo/ical//2.0/EN
VERSION:2.0
CALSCALE:GREGORIAN
BEGIN:VEVENT
UID:20fa69614dd70b7ae11d901f872d46b4
DTSTAMP:20260420T022744Z
SUMMARY:Purim Seudah honouring Rabbi Baruch Frydman-Kohl
DESCRIPTION:UJA Federation of Greater Toronto\nJewish Toronto Calendar\nhtt
 ps://jewishtoronto.com/calendar/purim-seudah-honouring-rabbi-baruch-frydma
 n-kohl-1535125157\n\nPurim Seudah honouring Rabbi Baruch Frydman-Kohl
DTSTART;TZID=America/Toronto:20190321T170000
DTEND;TZID=America/Toronto:20190321T210000
END:VEVENT
END:VCALENDAR
