BEGIN:VCALENDAR
PRODID:-//eluceo/ical//2.0/EN
VERSION:2.0
CALSCALE:GREGORIAN
BEGIN:VEVENT
UID:51cfbd7f2b5fb3ea0c2d556de5e010bd
DTSTAMP:20260420T093512Z
SUMMARY:Purim Party: The Jewish View
DESCRIPTION:UJA Federation of Greater Toronto\nJewish Toronto Calendar\nhtt
 ps://jewishtoronto.com/calendar/purim-party-the-jewish-view-1516377442\n\n
 Featuring David Gale\, Jack Newman and Randy Vancourt\nEnjoy this parody o
 f the television show The View\, and join us for laughter\, music homentas
 hn and fun!\nEvent: 1:00 – 2:30 pm\, plus post-show reception 
DTSTART;TZID=America/Toronto:20180301T123000
DTEND;TZID=America/Toronto:20180301T140000
END:VEVENT
END:VCALENDAR
