BEGIN:VCALENDAR
PRODID:-//eluceo/ical//2.0/EN
VERSION:2.0
CALSCALE:GREGORIAN
BEGIN:VEVENT
UID:22d0607de522d85c10a1204e993e8187
DTSTAMP:20260425T104304Z
SUMMARY:Purim Party and Shpiel
DESCRIPTION:UJA Federation of Greater Toronto\nJewish Toronto Calendar\nhtt
 ps://jewishtoronto.com/calendar/purim-party-and-shpiel\n\nPurim Party and 
 Shpiel\nFeaturing The WEL Group Players\nEnjoy hilarious impersonations of
  Liza Minnelli\, Carmen Miranda and more in this entertaining musical vari
 ety show. Prizes for costumes: most colourful\, most outrageous and most o
 riginal! Kosher refreshments\, including homentashn\, will be served.\nThu
 rsday March 5 |Doors open: 1:00 pm |Program: 1:30 - 3:00 pm\nAdmission: $8
 \nTo preregister\, please call (416) 924-6211 x 0\nInfo on the above 3 pro
 grams: lisar@mnjcc.org (416) 924-6211 x 15...
DTSTART;TZID=America/Toronto:20150305T130000
DTEND;TZID=America/Toronto:20150305T150000
END:VEVENT
END:VCALENDAR
