BEGIN:VCALENDAR
PRODID:-//eluceo/ical//2.0/EN
VERSION:2.0
CALSCALE:GREGORIAN
BEGIN:VEVENT
UID:6277084b8bb2824cfadbdee32796eaad
DTSTAMP:20260423T155751Z
SUMMARY:Purim Groove at the MNjcc
DESCRIPTION:UJA Federation of Greater Toronto\nJewish Toronto Calendar\nhtt
 ps://jewishtoronto.com/calendar/purim-groove-at-the-mnjcc-1487523532\n\nEx
 pect the Unexpected! A Purim Celebration for the whole family.\nIt’s a P
 urim carnival so step right up! Featuring:\nLive entertainment- bubble sho
 w\, magic show\, clowns and jugglers\nMake Hamentashen\, masks and Mishloc
 h manot.\nIndoor carnival\, face painting\, balloon animals\, jungle gym\,
  photobooth\, costume parade! Come in costume!\nKosher snacks! Bring your 
 own lunch!
DTSTART;TZID=America/Toronto:20170305T100000
DTEND;TZID=America/Toronto:20170305T130000
END:VEVENT
END:VCALENDAR
