BEGIN:VCALENDAR
PRODID:-//eluceo/ical//2.0/EN
VERSION:2.0
CALSCALE:GREGORIAN
BEGIN:VEVENT
UID:78dc0e37e2a3dad9425180de9740d173
DTSTAMP:20260423T191908Z
SUMMARY:Purim Extravaganza\, Superhero Style!
DESCRIPTION:UJA Federation of Greater Toronto\nJewish Toronto Calendar\nhtt
 ps://jewishtoronto.com/calendar/purim-extravaganza-superhero-style-1517512
 636\n\nBe a Purim Superhero! Lunch\, photo booth\, carnival\, social actio
 n project and much more
DTSTART;TZID=America/Toronto:20180225T110000
DTEND;TZID=America/Toronto:20180225T130000
END:VEVENT
END:VCALENDAR
