BEGIN:VCALENDAR
PRODID:-//eluceo/ical//2.0/EN
VERSION:2.0
CALSCALE:GREGORIAN
BEGIN:VEVENT
UID:5ed26ed78a23d156e9194524c2d4d71c
DTSTAMP:20260422T041200Z
SUMMARY:Purim Carnival honouring Rabbi Baruch Frydman-Kohl
DESCRIPTION:UJA Federation of Greater Toronto\nJewish Toronto Calendar\nhtt
 ps://jewishtoronto.com/calendar/purim-carnival-honouring-rabbi-baruch-fryd
 man-kohl-1535124928\n\nRabbi Baruch Frydman-Kohl will join us as we celebr
 ate Purim!
DTSTART;TZID=America/Toronto:20190320T160000
DTEND;TZID=America/Toronto:20190320T183000
END:VEVENT
END:VCALENDAR
