BEGIN:VCALENDAR
PRODID:-//eluceo/ical//2.0/EN
VERSION:2.0
CALSCALE:GREGORIAN
BEGIN:VEVENT
UID:9cfb37ee27f9f2705f4e304a586f0ef6
DTSTAMP:20260420T222445Z
SUMMARY:Purim Bash at Beth Sholom
DESCRIPTION:UJA Federation of Greater Toronto\nJewish Toronto Calendar\nhtt
 ps://jewishtoronto.com/calendar/purim-bash-at-beth-sholom\n\nExperience th
 e story of Purim with an interactive narrated slideshow that will take you
  and your children through the entire Megillah. Show off your costumes and
  enjoy foods\, games and prizes at our annual Purim carnival.
DTSTART;TZID=America/Toronto:20140316T100000
DTEND;TZID=America/Toronto:20140316T133000
END:VEVENT
END:VCALENDAR
