BEGIN:VCALENDAR
PRODID:-//eluceo/ical//2.0/EN
VERSION:2.0
CALSCALE:GREGORIAN
BEGIN:VEVENT
UID:54d677b947eb1b87ad8d0ad6da2112ea
DTSTAMP:20260422T060556Z
SUMMARY:Purim Banquet
DESCRIPTION:UJA Federation of Greater Toronto\nJewish Toronto Calendar\nhtt
 ps://jewishtoronto.com/calendar/purim-banquet-1456433321\n\nSit-down dinne
 r with music and dancing\, starring the Purim Shpiel Performance.\nChildre
 n Program with Doo Doo the Clown
DTSTART;TZID=America/Toronto:20160324T173000
DTEND;TZID=America/Toronto:20160324T213000
END:VEVENT
END:VCALENDAR
