BEGIN:VCALENDAR
PRODID:-//eluceo/ical//2.0/EN
VERSION:2.0
CALSCALE:GREGORIAN
BEGIN:VEVENT
UID:153db0796944d970b13e1cd4e3e562ac
DTSTAMP:20260421T044844Z
SUMMARY:Pump it for Preemies
DESCRIPTION:UJA Federation of Greater Toronto\nJewish Toronto Calendar\nhtt
 ps://jewishtoronto.com/calendar/pump-it-for-preemies-1455213187\n\nOur 3rd
  annual Pump it for Preemies dance-a-thon will take place on Sunday June 1
 2\, 2016 so be sure to save the date. Registration will open early spring.
  We are so thrilled to announce that singer\, songwriter and actor Shane H
 arte will be one of our VIP guests\, as well as Cierra Healey and Victoria
  Baldesarra from TV's The Next Step!
DTSTART;TZID=America/Toronto:20160612T110000
DTEND;TZID=America/Toronto:20160612T150000
END:VEVENT
END:VCALENDAR
