BEGIN:VCALENDAR
PRODID:-//eluceo/ical//2.0/EN
VERSION:2.0
CALSCALE:GREGORIAN
BEGIN:VEVENT
UID:aa569d9e67a53e308206d50b1ac223ea
DTSTAMP:20260419T203904Z
SUMMARY:Pump it for Preemies in support of Mount Sinai Hospital
DESCRIPTION:UJA Federation of Greater Toronto\nJewish Toronto Calendar\nhtt
 ps://jewishtoronto.com/calendar/pump-it-for-preemies\n\nSecond Annual Kids
  dance-a-thon in support of the NICU at Mount Sinai Hospital.
DTSTART;TZID=America/Toronto:20150426T120000
DTEND;TZID=America/Toronto:20150426T143000
END:VEVENT
END:VCALENDAR
