BEGIN:VCALENDAR
PRODID:-//eluceo/ical//2.0/EN
VERSION:2.0
CALSCALE:GREGORIAN
BEGIN:VEVENT
UID:7bac73a3153fbe6f7644003439888443
DTSTAMP:20260422T153220Z
SUMMARY:Public Menorah Lighting at Mel Lastman Square
DESCRIPTION:UJA Federation of Greater Toronto\nJewish Toronto Calendar\nhtt
 ps://jewishtoronto.com/calendar/public-menorah-lighting-at-mel-lastman-squ
 are-1540318519\n\nLIGHT UP THE NIGHT!\n\nJoin us at Mel Lastman Square for
  the annual public menorah lighting together with our honoured dignitaries
  and Rabbis.\n\n*Amazing fire show\n* Hot latkes and doughnuts\n*Live musi
 c\n*Chanukah Gelt
DTSTART;TZID=America/Toronto:20181202T180000
DTEND;TZID=America/Toronto:20181202T190000
END:VEVENT
END:VCALENDAR
