BEGIN:VCALENDAR
PRODID:-//eluceo/ical//2.0/EN
VERSION:2.0
CALSCALE:GREGORIAN
BEGIN:VEVENT
UID:81002389a0c8226e517a9cf6ca111d9f
DTSTAMP:20260421T080441Z
SUMMARY:Prosserman JCC Purim Community Celebration
DESCRIPTION:UJA Federation of Greater Toronto\nJewish Toronto Calendar\nhtt
 ps://jewishtoronto.com/calendar/prosserman-jcc-purim-community-celebration
 \n\nProsserman JCC Purim Community Celebration
DTSTART;TZID=America/Toronto:20150307T180000
DTEND;TZID=America/Toronto:20150307T210000
END:VEVENT
END:VCALENDAR
