BEGIN:VCALENDAR
PRODID:-//eluceo/ical//2.0/EN
VERSION:2.0
CALSCALE:GREGORIAN
BEGIN:VEVENT
UID:2f81b04573e9b1135189ba5d87d72c7b
DTSTAMP:20260422T161342Z
SUMMARY:Prospective Members Kol Bo Shabbat - Temple Har Zion
DESCRIPTION:UJA Federation of Greater Toronto\nJewish Toronto Calendar\nhtt
 ps://jewishtoronto.com/calendar/prospective-members-kol-bo-shabbat-temple-
 har-zion\n\nTonight we open our doors to the Community and treat everyone 
 like one of our own! Bring your family and friends to our amazing Shabbat 
 all-in experience\, beginning at 6:00 pm with a light Seudah and our all-m
 usic visual Tefillah service at 6:30 pm. Invite them to stay for our famil
 y-size\, kid-friendly buffet dinner with member pricing for everyone\;\n\n
 Cost:  $15 Adults\, $10 teens\, $7 children.\n\nPlease call for reservati
 ons.
DTSTART;TZID=America/Toronto:20150515T180000
DTEND;TZID=America/Toronto:20150515T235959
END:VEVENT
END:VCALENDAR
