BEGIN:VCALENDAR
PRODID:-//eluceo/ical//2.0/EN
VERSION:2.0
CALSCALE:GREGORIAN
BEGIN:VEVENT
UID:30fc093dc81f40930cdd121ae693f69e
DTSTAMP:20260422T050228Z
SUMMARY:Professor Xu Xin Presents- Seeing Israel Through China's Eyes
DESCRIPTION:UJA Federation of Greater Toronto\nJewish Toronto Calendar\nhtt
 ps://jewishtoronto.com/calendar/professor-xu-xin-presents--seeing-israel-t
 hrough-chinas-eyes-1562855828\n\nA special account of changes in the relat
 ions between China and Israel and the developments of a new Chinese attitu
 de towards Israel since 1949.
DTSTART;TZID=America/Toronto:20190815T193000
DTEND;TZID=America/Toronto:20190815T213000
END:VEVENT
END:VCALENDAR
