BEGIN:VCALENDAR
PRODID:-//eluceo/ical//2.0/EN
VERSION:2.0
CALSCALE:GREGORIAN
BEGIN:VEVENT
UID:9315e023487bef624d51409881bd5020
DTSTAMP:20260424T144715Z
SUMMARY:Professor Stephen Berk: Catastrophic Plagues and the Jews
DESCRIPTION:UJA Federation of Greater Toronto\nJewish Toronto Calendar\nhtt
 ps://jewishtoronto.com/calendar/professor-stephen-berk-catastrophic-plague
 s-and-the-jews-1587432480\n\nProfessor Stephen Berk will lecture about how
  experiences in Jewish history can help us contextualize what the COVID-19
  crisis might mean for Jews around the world.\n\nThis program will take pl
 ace via Zoom. Join us with this link: https://zoom.us/j/856224428. For the
  event password\, please email Terri Humphries at thumphries@beth-tzedec.o
 rg.\n\nYou can also join by phone only by calling 647-374-4685 and inputti
 ng the meeting ID 856-224-428.\n\nPresented by Beth Tzedec Congregation an
 d Beth...
DTSTART;TZID=America/Toronto:20200423T193000
DTEND;TZID=America/Toronto:20200423T203000
END:VEVENT
END:VCALENDAR
