BEGIN:VCALENDAR
PRODID:-//eluceo/ical//2.0/EN
VERSION:2.0
CALSCALE:GREGORIAN
BEGIN:VEVENT
UID:d7b350b81c34ffe53cf40af360883def
DTSTAMP:20260420T071253Z
SUMMARY:Professional Advisory Committee Meeting (PAC)
DESCRIPTION:UJA Federation of Greater Toronto\nJewish Toronto Calendar\nhtt
 ps://jewishtoronto.com/calendar/professional-advisory-committee-meeting-pa
 c-1484755963\n\nProfessional Advisory Committee Meeting (PAC)
DTSTART;TZID=America/Toronto:20170906T000000
DTEND;TZID=America/Toronto:20170906T000000
END:VEVENT
END:VCALENDAR
