BEGIN:VCALENDAR
PRODID:-//eluceo/ical//2.0/EN
VERSION:2.0
CALSCALE:GREGORIAN
BEGIN:VEVENT
UID:3d4560a2f3b91c13fccea4d8af4832ea
DTSTAMP:20260419T202848Z
SUMMARY:Professional Advisory Breakfast Seminar
DESCRIPTION:UJA Federation of Greater Toronto\nJewish Toronto Calendar\nhtt
 ps://jewishtoronto.com/calendar/professional-advisory-breakfast-seminar-Ju
 ne10\n\nDetails to follow
DTSTART;TZID=America/Toronto:20150610T073000
DTEND;TZID=America/Toronto:20150610T110000
END:VEVENT
END:VCALENDAR
