BEGIN:VCALENDAR
PRODID:-//eluceo/ical//2.0/EN
VERSION:2.0
CALSCALE:GREGORIAN
BEGIN:VEVENT
UID:162ca56c52a8cabc638c3b21d7e836b1
DTSTAMP:20260425T024635Z
SUMMARY:Professional Advisors Seminar
DESCRIPTION:UJA Federation of Greater Toronto\nJewish Toronto Calendar\nhtt
 ps://jewishtoronto.com/calendar/professional-advisors-seminar\n\nRoom: 7\,
 8\,9 [Tamari Family Hall]
DTSTART;TZID=America/Toronto:20140612T073000
DTEND;TZID=America/Toronto:20140612T110000
END:VEVENT
END:VCALENDAR
