BEGIN:VCALENDAR
PRODID:-//eluceo/ical//2.0/EN
VERSION:2.0
CALSCALE:GREGORIAN
BEGIN:VEVENT
UID:93009b6778dba824caea7ae019862f87
DTSTAMP:20260422T203229Z
SUMMARY:Pride Shabbat at Holy Blossom Temple!
DESCRIPTION:UJA Federation of Greater Toronto\nJewish Toronto Calendar\nhtt
 ps://jewishtoronto.com/calendar/pride-shabbat-at-holy-blossom-temple-17724
 66871\n\nJoin us for Holy Blossom Pride Shabbat 2025\, a vibrant evening c
 elebrating the joy\, resilience\, and spirit of queer Jews in our communit
 y. This year\, we’re turning up the energy with an unforgettable night o
 f spiritual uplift\, entertainment\, and connection.\n\nThroughout the eve
 ning\, enjoy live performances that will keep the energy high and the spir
 its lifted. And yes—there will be plenty of delicious food and drinks to
  enjoy while you connect\, schmooze\, and celebrate.\n\nWhether you’r...
DTSTART;TZID=America/Toronto:20260612T170000
DTEND;TZID=America/Toronto:20260612T190000
END:VEVENT
END:VCALENDAR
