BEGIN:VCALENDAR
PRODID:-//eluceo/ical//2.0/EN
VERSION:2.0
CALSCALE:GREGORIAN
BEGIN:VEVENT
UID:73f28774b7b584656875adfbc5433f16
DTSTAMP:20260423T160240Z
SUMMARY:Pride of Israel Teen Improv Night
DESCRIPTION:UJA Federation of Greater Toronto\nJewish Toronto Calendar\nhtt
 ps://jewishtoronto.com/calendar/pride-of-israel-teen-improv-night\n\nRelea
 se your inner comedian! Come out for TEEN IMPROV . Learn the craft of impr
 ovisation and dramatization. For teens - 13+. Free for members\; $2 for no
 n-member guests. Bring your friends! Refreshments included. Call to regist
 er at 416-226-0111 x10
DTSTART;TZID=America/Toronto:20140222T190000
DTEND;TZID=America/Toronto:20140222T210000
END:VEVENT
END:VCALENDAR
