BEGIN:VCALENDAR
PRODID:-//eluceo/ical//2.0/EN
VERSION:2.0
CALSCALE:GREGORIAN
BEGIN:VEVENT
UID:da2de29a2dd5047efb81217fd74bc1de
DTSTAMP:20260420T160856Z
SUMMARY:Pride of Israel sing along concert
DESCRIPTION:UJA Federation of Greater Toronto\nJewish Toronto Calendar\nhtt
 ps://jewishtoronto.com/calendar/pride-of-israel-sing-along-concert-1552182
 265\n\nSing along with Patrick Bramm. Enjoy the music of the 50's-70's. \n
 Sunday March 17\, 2019\, at 2:30-3:30 p.m\; doors open at 1:30 p.m.\nRefre
 shments following. Admission $10\, free for children under age 18
DTSTART;TZID=America/Toronto:20190317T143000
DTEND;TZID=America/Toronto:20190317T153000
END:VEVENT
END:VCALENDAR
