BEGIN:VCALENDAR
PRODID:-//eluceo/ical//2.0/EN
VERSION:2.0
CALSCALE:GREGORIAN
BEGIN:VEVENT
UID:0c4a890d3c0cd356269c91bee96f683c
DTSTAMP:20260420T020307Z
SUMMARY:Pride Havdalah
DESCRIPTION:UJA Federation of Greater Toronto\nJewish Toronto Calendar\nhtt
 ps://jewishtoronto.com/calendar/pride-havdalah-1747242503\n\nThis year we 
 are honoured to be joined by Devon Spier (she/they) who is an accidental b
 ut intentional Canadian poet of paper\, cloth and canvas.\n\nWith short an
 d pithy turns of phrase\, she unlocks the sacred and profane in contempora
 ry Jewish lifespans\, reaching into in-most questions\, wavering possibili
 ties\, and down-to-earth doubts to pull out un-glimpsed horizons and the a
 bsent presence of hope.\n\nHaving received early and notable praise from s
 taff of The Elie Wiesel Foundation for...
DTSTART;TZID=America/Toronto:20250607T193000
DTEND;TZID=America/Toronto:20250607T213000
END:VEVENT
END:VCALENDAR
