BEGIN:VCALENDAR
PRODID:-//eluceo/ical//2.0/EN
VERSION:2.0
CALSCALE:GREGORIAN
BEGIN:VEVENT
UID:3257e37c0c62ca5297ecd31df0c29f80
DTSTAMP:20260425T000620Z
SUMMARY:Preserving Lost Worlds
DESCRIPTION:UJA Federation of Greater Toronto\nJewish Toronto Calendar\nhtt
 ps://jewishtoronto.com/calendar/preserving-lost-worlds-1698950301\n\n(see 
 above)
DTSTART;TZID=America/Toronto:20231106T190000
DTEND;TZID=America/Toronto:20231106T213000
END:VEVENT
END:VCALENDAR
