BEGIN:VCALENDAR
PRODID:-//eluceo/ical//2.0/EN
VERSION:2.0
CALSCALE:GREGORIAN
BEGIN:VEVENT
UID:fce7accd5a6dea9665edca1cba11ba19
DTSTAMP:20260419T145213Z
SUMMARY:Preparing Our Hearts Minds For Passover
DESCRIPTION:UJA Federation of Greater Toronto\nJewish Toronto Calendar\nhtt
 ps://jewishtoronto.com/calendar/preparing-our-hearts-minds-for-passover\n\
 nLet's open the Haggadah - the centre text at a Passover Seder - and see h
 ow it can be a guidebook for transforming our limiting habits and opening 
 our hearts\, for clarifying what is most important and working towards lib
 eration. This session combines songs\, teachings and personal reflection t
 o enhance your understanding of the holiday and give you tools to enliven 
 your Seder. Open to participants of all religious and cultural backgrounds
 .
DTSTART;TZID=America/Toronto:20140409T190000
DTEND;TZID=America/Toronto:20140409T210000
END:VEVENT
END:VCALENDAR
