BEGIN:VCALENDAR
PRODID:-//eluceo/ical//2.0/EN
VERSION:2.0
CALSCALE:GREGORIAN
BEGIN:VEVENT
UID:80abf2426680e293477c643733c553f7
DTSTAMP:20260424T122830Z
SUMMARY:Pre-Emergency Antisemitism Summit Town Hall
DESCRIPTION:UJA Federation of Greater Toronto\nJewish Toronto Calendar\nhtt
 ps://jewishtoronto.com/calendar/pre-emergency-antisemitism-summit-town-hal
 l-1625836288\n\nIn advance of the Emergency Summit on antisemitism\, a dir
 ect outcome of CIJA’s Fight It campaign\, CIJA is holding a Canada-wide 
 Jewish Community Town Hall on July 14th to seek the perspectives of Jewish
  Canadians so that we can share it with our elected representatives at the
  Summit. The panel will include\, among others\, CIJA Vice President\, GTA
  Noah Shack. Registrants can submit questions and comments in advance that
  will be addressed at the Town Hall after they complete registration at fi
 ...
DTSTART;TZID=America/Toronto:20210714T190000
DTEND;TZID=America/Toronto:20210714T203000
END:VEVENT
END:VCALENDAR
