BEGIN:VCALENDAR
PRODID:-//eluceo/ical//2.0/EN
VERSION:2.0
CALSCALE:GREGORIAN
BEGIN:VEVENT
UID:31809352eab948633d19892de79733e7
DTSTAMP:20260422T145329Z
SUMMARY:Prayer: What\, Why\, When and How with Rabbi Wernick
DESCRIPTION:UJA Federation of Greater Toronto\nJewish Toronto Calendar\nhtt
 ps://jewishtoronto.com/calendar/prayer-what-why-when-and-how-with-rabbi-we
 rnick-1620145369\n\nJoin Beth Tzedec&#039\;s Rabbi Steven Wernick followin
 g Shaẖarit Services every other Tuesday morning for a time to reflect\, 
 share and pray together. In keeping with Public Health safety recommendati
 ons\, this program is offered via Zoom. For Zoom link\, visit the Beth Tze
 dec website link.
DTSTART;TZID=America/Toronto:20210511T083000
DTEND;TZID=America/Toronto:20210511T091500
END:VEVENT
END:VCALENDAR
