BEGIN:VCALENDAR
PRODID:-//eluceo/ical//2.0/EN
VERSION:2.0
CALSCALE:GREGORIAN
BEGIN:VEVENT
UID:cf123a635781a34907f3d56c76c92c28
DTSTAMP:20260422T040208Z
SUMMARY:Prayer: What\, Why\, When and How
DESCRIPTION:UJA Federation of Greater Toronto\nJewish Toronto Calendar\nhtt
 ps://jewishtoronto.com/calendar/prayer-what-why-when-and-how-1612210410\n\
 nJoin Beth Tzedec&#039\;s Rabbi Steven Wernick following Shaẖarit Servic
 es every other Tuesday morning for a time to reflect\, share and pray toge
 ther. In keeping with Public Health safety recommendations\, this program 
 is offered via Zoom. For Zoom link\, visit the Beth Tzedec website link.
DTSTART;TZID=America/Toronto:20210216T083000
DTEND;TZID=America/Toronto:20210216T090000
END:VEVENT
END:VCALENDAR
