BEGIN:VCALENDAR
PRODID:-//eluceo/ical//2.0/EN
VERSION:2.0
CALSCALE:GREGORIAN
BEGIN:VEVENT
UID:24f1964dc4fb877cc0bce1634dfbe81d
DTSTAMP:20260422T074448Z
SUMMARY:Prayer: What\, Where\, When and How with Reb Steve Wernick
DESCRIPTION:UJA Federation of Greater Toronto\nJewish Toronto Calendar\nhtt
 ps://jewishtoronto.com/calendar/prayer-what-where-when-and-how-with-reb-st
 eve-wernick-1628720807\n\nJoin Reb Steve following Shaẖarit service on T
 uesdays for an in-depth exploration of the meaning of our prayers and how 
 we can personalize them\, making them even more meaningful to us. \n\nThis
  program will be offered via Zoom\, following the morning Shaharit service
 . For Zoom link information\, visit https://www.beth-tzedec.org/page/adult
 s/a/display/s/1/hm/1/hc/1/item/prayer-what-where-when-and-how-8.
DTSTART;TZID=America/Toronto:20210831T083000
DTEND;TZID=America/Toronto:20210831T091500
END:VEVENT
END:VCALENDAR
