BEGIN:VCALENDAR
PRODID:-//eluceo/ical//2.0/EN
VERSION:2.0
CALSCALE:GREGORIAN
BEGIN:VEVENT
UID:7f9ae752e8f043b358e2849d156fd5df
DTSTAMP:20260420T070955Z
SUMMARY:Power Play for Israel
DESCRIPTION:UJA Federation of Greater Toronto\nJewish Toronto Calendar\nhtt
 ps://jewishtoronto.com/calendar/power-play-for-israel-1724180347\n\nJoin A
 llied Voices for Israel (AVI) for a fun-filled day of hockey\, unity\, and
  support for Israel!\n\nOur inaugural Ball and Ice Hockey Tournament on Au
 gust 25 at the Larry Grossman Forest Hill Memorial Arena is more than just
  a game – it's a chance to stand together with our community and our inc
 redible allies and show our unwavering support for the Jewish State.
DTSTART;TZID=America/Toronto:20240825T080000
DTEND;TZID=America/Toronto:20240825T130000
END:VEVENT
END:VCALENDAR
