BEGIN:VCALENDAR
PRODID:-//eluceo/ical//2.0/EN
VERSION:2.0
CALSCALE:GREGORIAN
BEGIN:VEVENT
UID:e1b1dcfe6470d96bad96da2e4f6e4597
DTSTAMP:20260421T021544Z
SUMMARY:POMEGRANATE GUILD OF JUDAIC TEXTILES
DESCRIPTION:UJA Federation of Greater Toronto\nJewish Toronto Calendar\nhtt
 ps://jewishtoronto.com/calendar/pomegranate-guild-of-judaic-textiles\n\nBr
 ainstorm ideas with Artist-in-Residence\, Laya Crust\, for bringing someth
 ing new to our Pesach table and work towards a display at the March meetin
 g.\n\nNew members and guests always welcome.\n\n 
DTSTART;TZID=America/Toronto:20150121T193000
DTEND;TZID=America/Toronto:20150121T213000
END:VEVENT
END:VCALENDAR
