BEGIN:VCALENDAR
PRODID:-//eluceo/ical//2.0/EN
VERSION:2.0
CALSCALE:GREGORIAN
BEGIN:VEVENT
UID:ef80327fc838f5ce2b31497238423a02
DTSTAMP:20260419T140427Z
SUMMARY:Pomegranate Guild of  Jewish Textiles Meet
DESCRIPTION:UJA Federation of Greater Toronto\nJewish Toronto Calendar\nhtt
 ps://jewishtoronto.com/calendar/pomegranate-guild-of-jewish-textiles-meet\
 n\n"Seamless: Embedding Judaic Texts in Judaic Textiles" with Judith Leitn
 er. Judith Leitner is the Director of Arts\, a co-founder and Visual Arts 
 teacher at the Toronto Heschel School. She values the Arts as essential te
 aching tools and necessary for the development of artful thinking.
DTSTART;TZID=America/Toronto:20140219T193000
DTEND;TZID=America/Toronto:20140219T220000
END:VEVENT
END:VCALENDAR
