BEGIN:VCALENDAR
PRODID:-//eluceo/ical//2.0/EN
VERSION:2.0
CALSCALE:GREGORIAN
BEGIN:VEVENT
UID:bf04fc16dce0cd540b3f05910d3f38ae
DTSTAMP:20260421T142851Z
SUMMARY:POLIN: Discovering Jewish Poland in the 21st Century
DESCRIPTION:UJA Federation of Greater Toronto\nJewish Toronto Calendar\nhtt
 ps://jewishtoronto.com/calendar/polin-discovering-jewish-poland-in-the-21s
 t-century-1464866676\n\nDorion Liebgott\, curator of the Beth Tzedec Reube
 n & Helene Dennis Museum travelled to Poland to attend the European Jewish
  Museum Conference held at the magnificent POLIN Museum of the History of 
 Polish Jews. Through her many photographs\, she will give a fascinating pr
 esentation on this moving experience.
DTSTART;TZID=America/Toronto:20160621T193000
DTEND;TZID=America/Toronto:20160621T213000
END:VEVENT
END:VCALENDAR
