BEGIN:VCALENDAR
PRODID:-//eluceo/ical//2.0/EN
VERSION:2.0
CALSCALE:GREGORIAN
BEGIN:VEVENT
UID:30e10e9e89d391199f27972c52ef5355
DTSTAMP:20260421T150513Z
SUMMARY:Plug into PJ...Parents Cook - Getting your Family off the White Stu
 ff 
DESCRIPTION:UJA Federation of Greater Toronto\nJewish Toronto Calendar\nhtt
 ps://jewishtoronto.com/calendar/plug-into-pjparents-cook---getting-your-fa
 mily-off-the-white-stuff-1453913551\n\nWe have all heard that white flour 
 and white sugar is bad for us. But how do we make the switch? How do we co
 nvince our family? Do you find the task overwhelming?\n\nPlease come with 
 an open mind and an empty stomach as PJ Library and Beth Radom Congregatio
 n present Jason Spilberg of Nutrition Inspired as he takes you through som
 e of the finer details about "The White Stuff" and what you can do to repl
 ace it. It is not as difficult as you may think.....It's all about the too
 ls\, and Jason will...
DTSTART;TZID=America/Toronto:20160209T193000
DTEND;TZID=America/Toronto:20160209T210000
END:VEVENT
END:VCALENDAR
