BEGIN:VCALENDAR
PRODID:-//eluceo/ical//2.0/EN
VERSION:2.0
CALSCALE:GREGORIAN
BEGIN:VEVENT
UID:d5ecb6b8e08017814fc4ab46bb267414
DTSTAMP:20260426T030431Z
SUMMARY:Plug into PJ: Passover Groove
DESCRIPTION:UJA Federation of Greater Toronto\nJewish Toronto Calendar\nhtt
 ps://jewishtoronto.com/calendar/plug-into-pj-passover-groove-1458065372\n\
 nPlease join PJ Library\, Miles Nadal JCC\, and Paul Penna Downtown Jewish
  Day School in fun activities for Pesach\, featuring arts and crafts and a
  special play space for children ages 0-5.\n\nFor more information\, conta
 ct Sheri at 416-928-3537 ext. 136 or sheri@djds.ca.\n\nRegistration: www.p
 assgroove.eventbrite.ca
DTSTART;TZID=America/Toronto:20160410T143000
DTEND;TZID=America/Toronto:20160410T163000
END:VEVENT
END:VCALENDAR
