BEGIN:VCALENDAR
PRODID:-//eluceo/ical//2.0/EN
VERSION:2.0
CALSCALE:GREGORIAN
BEGIN:VEVENT
UID:c97e9856ff9b32191e6aa8b925bbf52f
DTSTAMP:20260420T195845Z
SUMMARY:Plug into PJ: Downtown Matza Bake
DESCRIPTION:UJA Federation of Greater Toronto\nJewish Toronto Calendar\nhtt
 ps://jewishtoronto.com/calendar/plug-into-pj-downtown-matza-bake-145806562
 3\n\nJoin PJ Library and Makom Creative Downtown Judaism as we get ready f
 or Passover!\n\nLearn the secret to making matza\, hear a PJ Library story
 \, connect with other Jewish families downtown and have fun baking matza i
 n the great outdoors!\n\nRegistration: www.matzabake.eventbrite.ca
DTSTART;TZID=America/Toronto:20160417T120000
DTEND;TZID=America/Toronto:20160417T140000
END:VEVENT
END:VCALENDAR
