BEGIN:VCALENDAR
PRODID:-//eluceo/ical//2.0/EN
VERSION:2.0
CALSCALE:GREGORIAN
BEGIN:VEVENT
UID:577adc516f1fd652a78d2645ac40b12b
DTSTAMP:20260425T194922Z
SUMMARY:PJ Plus: Tot Story & Music Pre-Shabbat Program with Hazzan Zeidenbe
 rg
DESCRIPTION:UJA Federation of Greater Toronto\nJewish Toronto Calendar\nhtt
 ps://jewishtoronto.com/calendar/pj-plus-tot-story--music-pre-shabbat-progr
 am-with-hazzan-zeidenberg-1741805515\n\nJoin Hazzan Steve Zeidenberg for a
  weekly program of story & song for children aged 1.5 through 3 years and 
 their parents (or grandparents). Using PJ Library books as a springboard f
 or engaging and inspiring weekly classes for parents or grandparents and t
 heir tots\, Hazzan Steve will add his guitar and song.\n\nIt's where the f
 un of a play date meets the value of Jewish family education! We'll focus 
 on Jewish holidays\, Shabbat\, Israel\, and Jewish values.\n\nInteractive 
 PJ story circle time\nA...
DTSTART;TZID=America/Toronto:20250425T110000
DTEND;TZID=America/Toronto:20250425T120000
END:VEVENT
END:VCALENDAR
