BEGIN:VCALENDAR
PRODID:-//eluceo/ical//2.0/EN
VERSION:2.0
CALSCALE:GREGORIAN
BEGIN:VEVENT
UID:2910e7d23a771ae05f4cc98839007e46
DTSTAMP:20260423T095017Z
SUMMARY:PJ PLUS Winter Session @ Bialik Begins
DESCRIPTION:UJA Federation of Greater Toronto\nJewish Toronto Calendar\nhtt
 ps://jewishtoronto.com/calendar/pj-plus-Winter-Bialik-217398\n\n \n\nPJ 
 Plus is a 10 week program appropriate for tots and children between the ag
 es of 1.5 through 3 years where you and your child (or grandchild) will p
 articipate in an educationally fun and meaningful experience\, embracing 
 Jewish values.\n\n \n\nFor more info and to register: CLICK HERE\n\n \n\
 n 
DTSTART;TZID=America/Toronto:20170116T093000
DTEND;TZID=America/Toronto:20170116T104500
END:VEVENT
END:VCALENDAR
