BEGIN:VCALENDAR
PRODID:-//eluceo/ical//2.0/EN
VERSION:2.0
CALSCALE:GREGORIAN
BEGIN:VEVENT
UID:708ffa16af15508d2f47b740a346a68f
DTSTAMP:20260423T184717Z
SUMMARY:PJ Library Shabbat at City Shul
DESCRIPTION:UJA Federation of Greater Toronto\nJewish Toronto Calendar\nhtt
 ps://jewishtoronto.com/calendar/pj-library-shabbat-at-city-shul-1768405787
 \n\nBring your kiddos (recommended for ages 0-7) for a taste of Shabbat fo
 r the whole family - including some of our wiggliest members! Rabbi Crawle
 y will lead joyous singing and share a special PJ library book for storyti
 me.\n\nAll families are invited to stay for our Shabbat morning service at
  10 AM (followed by Kiddush Lunch)\, and take full advantage of our back-o
 f-the-sanctuary Prayground\, where kids can play and read more PJ Library 
 books while the service is taking place.\n\nDuring City Shu...
DTSTART;TZID=America/Toronto:20260124T091500
DTEND;TZID=America/Toronto:20260124T094500
END:VEVENT
END:VCALENDAR
