BEGIN:VCALENDAR
PRODID:-//eluceo/ical//2.0/EN
VERSION:2.0
CALSCALE:GREGORIAN
BEGIN:VEVENT
UID:4ba0befeb6911d00bade84f49c2220f0
DTSTAMP:20260423T204356Z
SUMMARY:PJ Library presents Pesah Party!
DESCRIPTION:UJA Federation of Greater Toronto\nJewish Toronto Calendar\nhtt
 ps://jewishtoronto.com/calendar/pj-library-presents-pesah-party-1614048826
 \n\nJoin Beth Tzedec and the PJ Library on Zoom as we prepare for the sede
 r with matzah\, crafts\, storytime and songs! No charge but pre-registrati
 on is required to receive the link information.
DTSTART;TZID=America/Toronto:20210314T103000
DTEND;TZID=America/Toronto:20210314T113000
END:VEVENT
END:VCALENDAR
