BEGIN:VCALENDAR
PRODID:-//eluceo/ical//2.0/EN
VERSION:2.0
CALSCALE:GREGORIAN
BEGIN:VEVENT
UID:8e15984cb32147a4c72f118abdc4fca5
DTSTAMP:20260425T215240Z
SUMMARY:PJ Library presents: Let's Talk About Tzedakah
DESCRIPTION:UJA Federation of Greater Toronto\nJewish Toronto Calendar\nhtt
 ps://jewishtoronto.com/calendar/pj-library-presents-lets-talk-about-tzedak
 ah-1562277943\n\nFor toddlers with a parent\, grandparent or caregiver—\
 nExperience the powerful meaning of tzedakah and its importance all year l
 ong\, especially before the High Holy Days. Enjoy shofar crafts\, apple ga
 mes\, music sweet as honey and a story will prepare us for Rosh Hashanah a
 nd Yom Kippur.\n\nNo charge. RSVPs requested by Tuesday\, September 3. You
  do not need to be a PJ Library subscriber of Beth Tzedec member to attend
 \, so grab a friend and join the fun!
DTSTART;TZID=America/Toronto:20190908T100000
DTEND;TZID=America/Toronto:20190908T113000
END:VEVENT
END:VCALENDAR
