BEGIN:VCALENDAR
PRODID:-//eluceo/ical//2.0/EN
VERSION:2.0
CALSCALE:GREGORIAN
BEGIN:VEVENT
UID:9bab42bbf519a720ff646d6861906545
DTSTAMP:20260421T123023Z
SUMMARY:PJ Library presents Happy Birthday\, Tree!
DESCRIPTION:UJA Federation of Greater Toronto\nJewish Toronto Calendar\nhtt
 ps://jewishtoronto.com/calendar/pj-library-presents-happy-birthday-tree-16
 40278743\n\nFor toddlers and young children with their families!\n\nLet's 
 celebrate and honour nature with crafts\, games\, story time and lots of f
 un planting trees ... just in time for Tu B'Shevat! Pre-registration is re
 quired. Email Daniel at dsilverman@beth-tzedec.org.
DTSTART;TZID=America/Toronto:20220116T103000
DTEND;TZID=America/Toronto:20220116T113000
END:VEVENT
END:VCALENDAR
