BEGIN:VCALENDAR
PRODID:-//eluceo/ical//2.0/EN
VERSION:2.0
CALSCALE:GREGORIAN
BEGIN:VEVENT
UID:99555538f366782f665a23ccf060cdf8
DTSTAMP:20260426T023606Z
SUMMARY:PJ Library Fifth Night Chanukah Celebration\, Downtown
DESCRIPTION:UJA Federation of Greater Toronto\nJewish Toronto Calendar\nhtt
 ps://jewishtoronto.com/calendar/pj-library-fifth-night-chanukah-celebratio
 n-dowtown-1448301035\n\nJoin us for a joyful Chanukah celebration includin
 g Chanukah themed PJ Story Time\, Musical Candle lighting\, Chanukah snack
 s and more!\n\nTeach your children the meaning of Tzedakah by giving a Cha
 nukah gift instead of recieving one. Please drop unwrapped gifts of educat
 ional toys\, games and books in collection bins at: Beth Sholom Synagogue\
 , Beth Torah Congregation\, Beth Radom Congregation\, Holy Blossom Temple 
 or Temple Sinai Congregation to be donated to Chai Lifeline to restore hop
 e and hap...
DTSTART;TZID=America/Toronto:20151210T180000
DTEND;TZID=America/Toronto:20151210T190000
END:VEVENT
END:VCALENDAR
