BEGIN:VCALENDAR
PRODID:-//eluceo/ical//2.0/EN
VERSION:2.0
CALSCALE:GREGORIAN
BEGIN:VEVENT
UID:1faee7daebab677f4d684d0afcdb1699
DTSTAMP:20260424T080534Z
SUMMARY:Pitch for Israel 2017
DESCRIPTION:UJA Federation of Greater Toronto\nJewish Toronto Calendar\nhtt
 ps://jewishtoronto.com/calendar/pitch-for-israel-2017-1493676864\n\nPresen
 ting Partners: The Jewish National Fund of Toronto and OneFamily Fund of C
 anada\n\nStart Time: 9:00am\n\nDetails: A full day of softball for co-ed\,
  men's and women's teams. Live entertainment\, free kosher lunch\, tons of
  raffle prizes and much more!\n\nThis year funds raised from the tournamen
 t will be going towards two very important projects: Therapeutic Camping P
 rogram for Child Victims of Terror and a Memorial Park in Sderot in honour
  of the 66 soldiers who perished in Operation Prot...
DTSTART;TZID=America/Toronto:20170716T080000
DTEND;TZID=America/Toronto:20170716T220000
END:VEVENT
END:VCALENDAR
