BEGIN:VCALENDAR
PRODID:-//eluceo/ical//2.0/EN
VERSION:2.0
CALSCALE:GREGORIAN
BEGIN:VEVENT
UID:223f1521a34ecf1fb9b3029c266ef46a
DTSTAMP:20260421T153425Z
SUMMARY:Pilates for Beginners
DESCRIPTION:UJA Federation of Greater Toronto\nJewish Toronto Calendar\nhtt
 ps://jewishtoronto.com/calendar/pilates-for-beginners-1582052155\n\nFor mo
 re info: https://www.bethtikvahtoronto.org/event/pilates
DTSTART;TZID=America/Toronto:20200312T110000
DTEND;TZID=America/Toronto:20200312T120000
END:VEVENT
END:VCALENDAR
