BEGIN:VCALENDAR
PRODID:-//eluceo/ical//2.0/EN
VERSION:2.0
CALSCALE:GREGORIAN
BEGIN:VEVENT
UID:b89b035e156db822c4789451dca31e04
DTSTAMP:20260425T165301Z
SUMMARY:Pictures as Perush- Examining the Illustrated Haggada
DESCRIPTION:UJA Federation of Greater Toronto\nJewish Toronto Calendar\nhtt
 ps://jewishtoronto.com/calendar/pictures-as-perush--examining-the-illustra
 ted-haggada-1614800030\n\nThe Rich History of the Illustrated Haggada\, Pr
 of. Adam Cohe-Art History U. of Toronto
DTSTART;TZID=America/Toronto:20210314T200000
DTEND;TZID=America/Toronto:20210314T210000
END:VEVENT
END:VCALENDAR
