BEGIN:VCALENDAR
PRODID:-//eluceo/ical//2.0/EN
VERSION:2.0
CALSCALE:GREGORIAN
BEGIN:VEVENT
UID:b9300d8d45ee3085d4a68efcbdf1a791
DTSTAMP:20260425T223308Z
SUMMARY:Philosophy of God at Beth Tikvah Synagogue
DESCRIPTION:UJA Federation of Greater Toronto\nJewish Toronto Calendar\nhtt
 ps://jewishtoronto.com/calendar/philosophy-of-god-at-beth-tikvah-synagogue
 -1506434902\n\nPhilosophy of God With Rabbi Louis J. Sachs\n\nOver the cou
 rse of 8 sessions\, we will examine various texts and scholars to explore 
 different ways to think about\nGod. From classical Jewish sources such as 
 the Tanakh\, Talmud\, and Siddur\, to modern Jewish philosophers such as M
 artin Buber\, Mordecai Kaplan\, and David Hartman. This class will touch o
 n a wide range of questions\, including:\n\nDoes God Exist?\nCan we know G
 od on a personal level?\nWhy does God “permit” Evil to exist?\nDoes Go
 d...
DTSTART;TZID=America/Toronto:20171129T193000
DTEND;TZID=America/Toronto:20171129T201500
END:VEVENT
END:VCALENDAR
